Shooting information for this photo
Camera: | Canon EOS 650D |
Exposure: | 0.002 sec. (1/500) |
Aperture: | f/5.6 |
Focal Length: | 250.0 mm (35 mm equivalent: 396.1 mm) |
Flash: | Off, Did not fire |
Exposure mode: | Aperture-priority AE |
Max Aperture: | 5.7 |
Resolution: | 240 x 240 dpi |
Original Date: | 2014:01:31 15:23:57 |
Created on: | 2014:01:31 15:23:57.45 |
Modified on: | 2021:05:07 21:40:53 |
Software: | Adobe Photoshop Lightroom Classic 10.2 (Windows) |
Copyright: | Alle RECHTE VORBEHALTEN |
Already Applied | True |
Approximate Focus Distance | 33.1 |
Artist | HANS-GUENTER MUELLER |
Auto Lateral CA | 1 |
Blacks 2012 | -10 |
Blue Hue | 0 |
Blue Saturation | 0 |
Camera Profile | Adobe Standard |
Circle Of Confusion | 0.019 mm |
Clarity 2012 | +30 |
Color Grade Blending | 50 |
Color Grade Global Hue | 0 |
Color Grade Global Lum | 0 |
Color Grade Global Sat | 0 |
Color Grade Highlight Lum | 0 |
Color Grade Midtone Hue | 0 |
Color Grade Midtone Lum | 0 |
Color Grade Midtone Sat | 0 |
Color Grade Shadow Lum | 0 |
Color Noise Reduction | 25 |
Color Noise Reduction Detail | 50 |
Color Noise Reduction Smoothness | 50 |
Color Space | sRGB |
Color Temperature | 5150 |
Contrast 2012 | +24 |
Convert To Grayscale | False |
Creator | HANS-GUENTER MUELLER |
Crop Angle | 0 |
Crop Bottom | 0.801195 |
Crop Constrain To Warp | 0 |
Crop Left | 0 |
Crop Right | 0.801195 |
Crop Top | 0 |
Custom Rendered | Normal |
Date Created | 2014:01:31 15:23:57 |
Defringe Green Amount | 0 |
Defringe Green Hue Hi | 60 |
Defringe Green Hue Lo | 40 |
Defringe Purple Amount | 0 |
Defringe Purple Hue Hi | 70 |
Defringe Purple Hue Lo | 30 |
Dehaze | 0 |
Description | HGKM |
Distortion Correction Already Applied | True |
Exposure 2012 | +0.22 |
Exposure Compensation | 0 |
Exposure Mode | Auto |
Field Of View | 5.2 deg |
Firmware | 1.0.1 |
Flash Compensation | 0 |
Format | image/jpeg |
Grain Amount | 0 |
Green Hue | 0 |
Green Saturation | 0 |
Has Crop | True |
Has Settings | True |
Highlights 2012 | -74 |
Hue Adjustment Aqua | 0 |
Hue Adjustment Blue | 0 |
Hue Adjustment Green | 0 |
Hue Adjustment Magenta | 0 |
Hue Adjustment Orange | 0 |
Hue Adjustment Purple | 0 |
Hue Adjustment Red | 0 |
Hue Adjustment Yellow | 0 |
Hyperfocal Distance | 588.58 m |
ISO | 100 |
Image Description | HGKM |
Image Number | 0 |
Image Size | 2769x4153 |
Lateral Chromatic Aberration Correction Already Applied | True |
Lens | EF-S55-250mm f/4-5.6 IS II |
Lens ID | Canon EF-S55-250mm f/4-5.6 IS II |
Lens Info | 55-250mm f/? |
Lens Manual Distortion Amount | 0 |
Lens Model | EF-S55-250mm f/4-5.6 IS II |
Lens Profile Distortion Scale | 100 |
Lens Profile Enable | 1 |
Lens Profile Filename | Canon EOS 50D (Canon EF-S 55-250mm f4-5.6 IS) - RAW.lcp |
Lens Profile Is Embedded | False |
Lens Profile Name | Adobe (Canon EF-S 55-250mm f/4-5.6 IS) |
Lens Profile Setup | Custom |
Lens Profile Vignetting Scale | 100 |
Light Value | 13.9 |
Luminance Adjustment Aqua | 0 |
Luminance Adjustment Blue | 0 |
Luminance Adjustment Green | 0 |
Luminance Adjustment Magenta | 0 |
Luminance Adjustment Orange | 0 |
Luminance Adjustment Purple | 0 |
Luminance Adjustment Red | 0 |
Luminance Adjustment Yellow | 0 |
Luminance Smoothing | 0 |
Metering Mode | Multi-segment |
Override Look Vignette | False |
Parametric Darks | 0 |
Parametric Highlight Split | 75 |
Parametric Highlights | 0 |
Parametric Lights | 0 |
Parametric Midtone Split | 50 |
Parametric Shadow Split | 25 |
Parametric Shadows | 0 |
Perspective Aspect | 0 |
Perspective Horizontal | 0 |
Perspective Rotate | 0.0 |
Perspective Scale | 100 |
Perspective Upright | 0 |
Perspective Vertical | 0 |
Perspective X | 0.00 |
Perspective Y | 0.00 |
Post Crop Vignette Amount | 0 |
Process Version | 11.0 |
Rating | 3 |
Raw File Name | IMG_1364.CR2 |
Recommended Exposure Index | 100 |
Red Hue | 0 |
Red Saturation | 0 |
Rights | Alle RECHTE VORBEHALTEN |
Saturation | 0 |
Saturation Adjustment Aqua | 0 |
Saturation Adjustment Blue | 0 |
Saturation Adjustment Green | 0 |
Saturation Adjustment Magenta | 0 |
Saturation Adjustment Orange | 0 |
Saturation Adjustment Purple | 0 |
Saturation Adjustment Red | 0 |
Saturation Adjustment Yellow | 0 |
Scale Factor To 35 mm Equivalent | 1.6 |
Scene Capture Type | Standard |
Sensitivity Type | Recommended Exposure Index |
Shadow Tint | 0 |
Shadows 2012 | +48 |
Sharpen Detail | 25 |
Sharpen Edge Masking | 0 |
Sharpen Radius | +1.0 |
Sharpness | 25 |
Split Toning Balance | 0 |
Split Toning Highlight Hue | 0 |
Split Toning Highlight Saturation | 0 |
Split Toning Shadow Hue | 0 |
Split Toning Shadow Saturation | 0 |
Subject | Asien, Indien, Kontinente und Länder, Menschen |
Texture | 0 |
Tint | +3 |
Tone Curve Name 2012 | Linear |
Tone Curve PV2012 | 0, 0, 255, 255 |
Tone Curve PV2012 Blue | 0, 0, 255, 255 |
Tone Curve PV2012 Green | 0, 0, 255, 255 |
Tone Curve PV2012 Red | 0, 0, 255, 255 |
Version | 13.2 |
Vibrance | +25 |
Vignette Amount | 0 |
Vignette Correction Already Applied | True |
White Balance | Auto |
Whites 2012 | +18 |
GPS Information |
GPS Altitude | 556.52 m |
GPS Latitude | 20 deg 0' 29.01" N |
GPS Latitude Ref | North |
GPS Longitude | 73 deg 47' 30.22" E |
GPS Longitude Ref | East |
GPS Position | 20 deg 0' 29.01" N, 73 deg 47' 30.22" E |
GPS Version ID | 2.2.0.0 |