Shooting information for this photo
Camera: | FUJIFILM X100V |
Resolution: | 240 x 240 dpi |
Dimension: | 3626 x 4825 pixels |
Original Date: | 2025:03:11 11:29:55+00:00 |
Created on: | 2025:03:11 11:29:55 |
Modified on: | 2025:03:11 14:47:49 |
Software: | Adobe Photoshop Lightroom 6.0 (Windows) |
Copyright: | s7 |
Already Applied | True |
Artist | s7 |
Auto Lateral CA | 0 |
Auto White Version | 134348800 |
Blacks 2012 | -12 |
Blue Hue | 0 |
Blue Saturation | 0 |
Camera Profile | Adobe Standard |
Clarity 2012 | +35 |
Color Noise Reduction | 25 |
Color Noise Reduction Detail | 50 |
Color Noise Reduction Smoothness | 50 |
Contrast 2012 | +44 |
Convert To Grayscale | True |
Creator | s7 |
Crop Angle | 0.936124 |
Crop Bottom | 0.89675 |
Crop Constrain To Warp | 0 |
Crop Left | 0.146828 |
Crop Right | 0.906173 |
Crop Top | 0.013046 |
Exposure 2012 | 0.00 |
Format | image/jpeg |
Grain Amount | 0 |
Gray Mixer Aqua | +63 |
Gray Mixer Blue | +54 |
Gray Mixer Green | -59 |
Gray Mixer Magenta | +65 |
Gray Mixer Orange | -42 |
Gray Mixer Purple | +44 |
Gray Mixer Red | -60 |
Gray Mixer Yellow | -74 |
Green Hue | 0 |
Green Saturation | 0 |
Has Crop | True |
Has Settings | True |
Highlights 2012 | -50 |
Image Size | 3626x4825 |
Incremental Temperature | -5 |
Incremental Tint | -36 |
Lens Manual Distortion Amount | 0 |
Lens Profile Enable | 0 |
Lens Profile Setup | LensDefaults |
Luminance Smoothing | 0 |
Parametric Darks | 0 |
Parametric Highlight Split | 75 |
Parametric Highlights | 0 |
Parametric Lights | 0 |
Parametric Midtone Split | 50 |
Parametric Shadow Split | 25 |
Parametric Shadows | 0 |
Perspective Aspect | 0 |
Perspective Horizontal | 0 |
Perspective Rotate | 0.0 |
Perspective Scale | 100 |
Perspective Upright | 0 |
Perspective Vertical | 0 |
Post Crop Vignette Amount | 0 |
Process Version | 6.7 |
Raw File Name | DSCF5764.jpg |
Red Hue | 0 |
Red Saturation | 0 |
Related Image Height | 4797 |
Related Image Width | 3598 |
Rights | s7 |
Shadow Tint | 0 |
Shadows 2012 | 0 |
Sharpen Detail | 25 |
Sharpen Edge Masking | 0 |
Sharpen Radius | +1.0 |
Sharpness | 25 |
Split Toning Balance | 0 |
Split Toning Highlight Hue | 0 |
Split Toning Highlight Saturation | 0 |
Split Toning Shadow Hue | 0 |
Split Toning Shadow Saturation | 0 |
Tone Curve | 0, 0, 255, 255 |
Tone Curve Blue | 0, 0, 255, 255 |
Tone Curve Green | 0, 0, 255, 255 |
Tone Curve Name | Linear |
Tone Curve Name 2012 | Linear |
Tone Curve PV2012 | 0, 0, 255, 255 |
Tone Curve PV2012 Blue | 0, 0, 255, 255 |
Tone Curve PV2012 Green | 0, 0, 255, 255 |
Tone Curve PV2012 Red | 0, 0, 255, 255 |
Tone Curve Red | 0, 0, 255, 255 |
Version | 9.0 |
Vignette Amount | 0 |
White Balance | Custom |
Whites 2012 | -50 |